BEGIN:VCALENDAR
VERSION:2.0
PRODID:-//hacksw/handcal//NONSGML v1.0//EN
BEGIN:VEVENT
DTSTAMP:20261024T233000Z
DTSTART:20261024T233000Z
DTEND:20261025T013000Z

SUMMARY:Beethoven’s “Emperor” <br>& Schubert’s “Great”
DESCRIPTION:Xian Zhang conductorGeorge Li pianoNew Jersey Symphony
END:VEVENT
END:VCALENDAR